2.43840000
0.00000000
0.00000000
-2.43840000
711672.13471963
5112528.78333498
